BEGIN:VCALENDAR
VERSION:2.0
PRODID:-//Bumpa 2 Bumpa Entertainment | Black Comedy Show Tickets | We provide Promotional, Entertainment and Comedy Services. - ECPv6.2.0.1//NONSGML v1.0//EN
CALSCALE:GREGORIAN
METHOD:PUBLISH
X-WR-CALNAME:Bumpa 2 Bumpa Entertainment | Black Comedy Show Tickets | We provide Promotional, Entertainment and Comedy Services.
X-ORIGINAL-URL:https://bumpa2bumpa.com
X-WR-CALDESC:Events for Bumpa 2 Bumpa Entertainment | Black Comedy Show Tickets | We provide Promotional, Entertainment and Comedy Services.
REFRESH-INTERVAL;VALUE=DURATION:PT1H
X-Robots-Tag:noindex
X-PUBLISHED-TTL:PT1H
BEGIN:VTIMEZONE
TZID:America/New_York
BEGIN:DAYLIGHT
TZOFFSETFROM:-0500
TZOFFSETTO:-0400
TZNAME:EDT
DTSTART:20250309T070000
END:DAYLIGHT
BEGIN:STANDARD
TZOFFSETFROM:-0400
TZOFFSETTO:-0500
TZNAME:EST
DTSTART:20251102T060000
END:STANDARD
END:VTIMEZONE
BEGIN:VEVENT
DTSTART;TZID=America/New_York:20250906T193000
DTEND;TZID=America/New_York:20250906T220000
DTSTAMP:20260420T122017
CREATED:20250715T235620Z
LAST-MODIFIED:20250906T202729Z
UID:5267-1757187000-1757196000@bumpa2bumpa.com
SUMMARY:Cinema Comedy Series Featuring Just Nesh Talent Joanne Ashe Comedian Sal Solley Rated G Dajon Alford
DESCRIPTION:Cinema Comedy Series With Live Comedy Inside the Movie Theater \nBumpa2Bumpa Comedy presents Just Nesh\, Joanne Ashe\, Comedian Sal\, Rated G\, Dajon Alford. Hosted by Talent. \nCome Join Us.\nSaturday\, September 6\, 2025 \n\n$30  Advanced Tickets\n$40 VIP Front Row Seats\nNO SALES AT DOOR!\n \nSeating @ 7:30PM\nShowtime @8PM \nMust be 21+ to attend.\nLimited Seating\n2 Item Minimum\nWe feature a different comedian every month. \nAll ticket purchases are non-refundable.
URL:https://bumpa2bumpa.com/event/cinema-comedy-series-featuring-just-nesh-talent-joanne-ashe-comedian-sal-solley-rated-g-dajon-alford/
LOCATION:The Mills @ Jersey Gardens Mall\, 651 Kapkowski Rd\, Elizabeth\, NJ\, 07201\, United States
ATTACH;FMTTYPE=image/jpeg:https://bumpa2bumpa.com/wp-content/uploads/2025/07/cinema-comedy-series-9-6-25.jpeg
ORGANIZER;CN="Marquis%20Thomas":MAILTO:bumpabumpallc@gmail.com
END:VEVENT
BEGIN:VEVENT
DTSTART;TZID=America/New_York:20250906T193000
DTEND;TZID=America/New_York:20250906T220000
DTSTAMP:20260420T122017
CREATED:20250915T195928Z
LAST-MODIFIED:20250915T195928Z
UID:5350-1757187000-1757196000@bumpa2bumpa.com
SUMMARY:Cinema Comedy Series Featuring Just Nesh Talent Joanne Ashe Comedian Sal Solley Rated G Dajon Alford - Copy
DESCRIPTION:Cinema Comedy Series With Live Comedy Inside the Movie Theater \nBumpa2Bumpa Comedy presents Just Nesh\, Joanne Ashe\, Comedian Sal\, Rated G\, Dajon Alford. Hosted by Talent. \nCome Join Us.\nSaturday\, September 6\, 2025 \n\n$30  Advanced Tickets\n$40 VIP Front Row Seats\nNO SALES AT DOOR!\n \nSeating @ 7:30PM\nShowtime @8PM \nMust be 21+ to attend.\nLimited Seating\n2 Item Minimum\nWe feature a different comedian every month. \nAll ticket purchases are non-refundable.
URL:https://bumpa2bumpa.com/event/cinema-comedy-series-featuring-just-nesh-talent-joanne-ashe-comedian-sal-solley-rated-g-dajon-alford-copy/
LOCATION:The Mills @ Jersey Gardens Mall\, 651 Kapkowski Rd\, Elizabeth\, NJ\, 07201\, United States
ATTACH;FMTTYPE=image/jpeg:https://bumpa2bumpa.com/wp-content/uploads/2025/07/cinema-comedy-series-9-6-25.jpeg
ORGANIZER;CN="Marquis%20Thomas":MAILTO:bumpabumpallc@gmail.com
END:VEVENT
END:VCALENDAR