BEGIN:VCALENDAR
VERSION:2.0
PRODID:-//Bumpa 2 Bumpa Entertainment | Black Comedy Show Tickets | We provide Promotional, Entertainment and Comedy Services. - ECPv6.2.0.1//NONSGML v1.0//EN
CALSCALE:GREGORIAN
METHOD:PUBLISH
X-WR-CALNAME:Bumpa 2 Bumpa Entertainment | Black Comedy Show Tickets | We provide Promotional, Entertainment and Comedy Services.
X-ORIGINAL-URL:https://bumpa2bumpa.com
X-WR-CALDESC:Events for Bumpa 2 Bumpa Entertainment | Black Comedy Show Tickets | We provide Promotional, Entertainment and Comedy Services.
REFRESH-INTERVAL;VALUE=DURATION:PT1H
X-Robots-Tag:noindex
X-PUBLISHED-TTL:PT1H
BEGIN:VTIMEZONE
TZID:America/New_York
BEGIN:DAYLIGHT
TZOFFSETFROM:-0500
TZOFFSETTO:-0400
TZNAME:EDT
DTSTART:20250309T070000
END:DAYLIGHT
BEGIN:STANDARD
TZOFFSETFROM:-0400
TZOFFSETTO:-0500
TZNAME:EST
DTSTART:20251102T060000
END:STANDARD
END:VTIMEZONE
BEGIN:VEVENT
DTSTART;TZID=America/New_York:20251220T180000
DTEND;TZID=America/New_York:20251220T220000
DTSTAMP:20260420T083911
CREATED:20251120T023312Z
LAST-MODIFIED:20251219T231428Z
UID:5476-1766253600-1766268000@bumpa2bumpa.com
SUMMARY:B2B Comedy Series Presents Another Night of Laughter with Talent & Friends
DESCRIPTION:Bumpa2Bumpa Comedy Presents Another Night of Laughter with Talent & Friends\nBumpa2Bumpa Comedy presents Talent and Friends Featuring Osei Caleb\, Sofia Negron and Kenny WooMusic by DJ Antione Qua. \nCome Join Us.\nSaturday\, December 20\, 2025 \n\n$25  Advanced Tickets\nIncludes Show &  After Party\nNO SALES AT DOOR!\n \nDoors open at @ 6PM\nShowtime @8 PM \nMust be 21+ to attend.\nLimited Seating\n2 Item Minimum\nWe feature a different comedian every month. \nAll ticket purchases are non-refundable.
URL:https://bumpa2bumpa.com/event/b2b-comedy-series-presents-another-night-of-laughter-with-talent-friends/
LOCATION:Skylark Diner\, 17 Wooding Ave\, Edison\, NJ\, 08817\, United States
ATTACH;FMTTYPE=image/jpeg:https://bumpa2bumpa.com/wp-content/uploads/2025/11/bumpa-night-of-laugher-dec-20.jpeg
ORGANIZER;CN="Marquis%20Thomas":MAILTO:bumpabumpallc@gmail.com
END:VEVENT
END:VCALENDAR