BEGIN:VCALENDAR
VERSION:2.0
PRODID:-//Bumpa 2 Bumpa Entertainment | Black Comedy Show Tickets | We provide Promotional, Entertainment and Comedy Services. - ECPv6.2.0.1//NONSGML v1.0//EN
CALSCALE:GREGORIAN
METHOD:PUBLISH
X-ORIGINAL-URL:https://bumpa2bumpa.com
X-WR-CALDESC:Events for Bumpa 2 Bumpa Entertainment | Black Comedy Show Tickets | We provide Promotional, Entertainment and Comedy Services.
REFRESH-INTERVAL;VALUE=DURATION:PT1H
X-Robots-Tag:noindex
X-PUBLISHED-TTL:PT1H
BEGIN:VTIMEZONE
TZID:America/New_York
BEGIN:DAYLIGHT
TZOFFSETFROM:-0500
TZOFFSETTO:-0400
TZNAME:EDT
DTSTART:20220313T070000
END:DAYLIGHT
BEGIN:STANDARD
TZOFFSETFROM:-0400
TZOFFSETTO:-0500
TZNAME:EST
DTSTART:20221106T060000
END:STANDARD
END:VTIMEZONE
BEGIN:VEVENT
DTSTART;TZID=America/New_York:20220707T190000
DTEND;TZID=America/New_York:20220707T220000
DTSTAMP:20260422T155019
CREATED:20220621T143101Z
LAST-MODIFIED:20250612T225133Z
UID:397-1657220400-1657231200@bumpa2bumpa.com
SUMMARY:Thursday Night Comedy - Sal Holmes
DESCRIPTION:Thursday Night Comedy Features Sal Holmes\n\nThursday\, July 7\, 2022\nDoors open 7pm\nShowtime @ 8pm\nHosted by Cee Jay Craxx \nAdvanced Tickets: $15 – Online Only\nAt the Door: $25 \nWe feature a different comedian every Thursday. \nAll ticket purchases are non-refundable.
URL:https://bumpa2bumpa.com/event/thursday-night-comedy-sal-holmes/
LOCATION:South Valley BBQ & Lounge\, 34 S. Valley Road\, West Orange\, NJ\, 07052\, United States
CATEGORIES:Thursday Night Comedy Shows
ATTACH;FMTTYPE=image/jpeg:https://bumpa2bumpa.com/wp-content/uploads/2022/06/IMG_1190.jpg
ORGANIZER;CN="Marquis%20Thomas":MAILTO:bumpabumpallc@gmail.com
END:VEVENT
BEGIN:VEVENT
DTSTART;TZID=America/New_York:20220708T193000
DTEND;TZID=America/New_York:20220708T220000
DTSTAMP:20260422T155019
CREATED:20220621T144456Z
LAST-MODIFIED:20250612T225052Z
UID:401-1657308600-1657317600@bumpa2bumpa.com
SUMMARY:Erotic Poetry & Open Mic Night
DESCRIPTION:Erotic Poetry & Open Mic\n\nFriday\, July 8\, 2022\nDoors open 730pm\nShowtime @ 8pm\nHosted by Shelby “Godiva” &  Belinda “The Kandi Lady” \nAdvance Tickets:  $20 – Online Only\nAt the Door: $30 \nAll ticket purchases are non-refundable.
URL:https://bumpa2bumpa.com/event/erotic-poetry-open-mic-night/
LOCATION:South Valley BBQ & Lounge\, 34 S. Valley Road\, West Orange\, NJ\, 07052\, United States
CATEGORIES:Erotic Poetry & Open Mic Night Events
ATTACH;FMTTYPE=image/jpeg:https://bumpa2bumpa.com/wp-content/uploads/2022/06/event-71022.jpg
ORGANIZER;CN="Marquis%20Thomas":MAILTO:bumpabumpallc@gmail.com
END:VEVENT
BEGIN:VEVENT
DTSTART;TZID=America/New_York:20220714T190000
DTEND;TZID=America/New_York:20220714T220000
DTSTAMP:20260422T155019
CREATED:20220621T155629Z
LAST-MODIFIED:20250612T224938Z
UID:427-1657825200-1657836000@bumpa2bumpa.com
SUMMARY:Thursday Night Comedy - Toni Byrd
DESCRIPTION:Thursday Night Comedy Features Toni Byrd\n\nThursday\, July 14\, 2022\nDoors open 7pm\nShowtime @ 8pm\nHosted by Cee Jay Craxx \nAdvanced Tickets: $15 – Online Only\nAt the Door: $25 \nWe feature a different comedian every Thursday. \nAll ticket purchases are non-refundable.
URL:https://bumpa2bumpa.com/event/thursday-night-comedy-toni-byrd/
LOCATION:South Valley BBQ & Lounge\, 34 S. Valley Road\, West Orange\, NJ\, 07052\, United States
CATEGORIES:Thursday Night Comedy Shows
ATTACH;FMTTYPE=image/jpeg:https://bumpa2bumpa.com/wp-content/uploads/2022/06/IMG_1189.jpg
ORGANIZER;CN="Marquis%20Thomas":MAILTO:bumpabumpallc@gmail.com
END:VEVENT
BEGIN:VEVENT
DTSTART;TZID=America/New_York:20220717T130000
DTEND;TZID=America/New_York:20220717T160000
DTSTAMP:20260422T155019
CREATED:20220621T153304Z
LAST-MODIFIED:20250612T224901Z
UID:415-1658062800-1658073600@bumpa2bumpa.com
SUMMARY:Comedy After Brunch
DESCRIPTION:Comedy After Brunch\n\nSunday\, July 17\, 2022\nDoors open 1pm\nShowtime @ 230pm \nHosted by Talent\nMusic by DJ Nix in the Mix\nBrunch Style Menu Available\nBrunch paid for at Venue \nAdvance Tickets: $30 – Online Only \nAll ticket purchases are non-refundable.
URL:https://bumpa2bumpa.com/event/comedy-after-brunch/
LOCATION:South Valley BBQ & Lounge\, 34 S. Valley Road\, West Orange\, NJ\, 07052\, United States
CATEGORIES:Comedy After Brunch
ATTACH;FMTTYPE=image/jpeg:https://bumpa2bumpa.com/wp-content/uploads/2022/06/IMG_1188.jpg
ORGANIZER;CN="Marquis%20Thomas":MAILTO:bumpabumpallc@gmail.com
END:VEVENT
BEGIN:VEVENT
DTSTART;TZID=America/New_York:20220721T190000
DTEND;TZID=America/New_York:20220721T220000
DTSTAMP:20260422T155019
CREATED:20220621T154653Z
LAST-MODIFIED:20250612T224829Z
UID:422-1658430000-1658440800@bumpa2bumpa.com
SUMMARY:Thursday Night Comedy - Reggie Kush
DESCRIPTION:Thursday Night Comedy Features Reggie Kush\n\nThursday\, July 21\, 2022\nDoors open 7pm\nShowtime @ 8pm\nHosted by Cee Jay Craxx \nAdvanced Tickets: $15 – Online Only\nAt the Door: $25 \nWe feature a different comedian every Thursday. \nAll ticket purchases are non-refundable.
URL:https://bumpa2bumpa.com/event/thursday-night-comedy-reggie-kush/
LOCATION:South Valley BBQ & Lounge\, 34 S. Valley Road\, West Orange\, NJ\, 07052\, United States
CATEGORIES:Thursday Night Comedy Shows
ATTACH;FMTTYPE=image/jpeg:https://bumpa2bumpa.com/wp-content/uploads/2022/06/IMG_1187.jpg
ORGANIZER;CN="Marquis%20Thomas":MAILTO:bumpabumpallc@gmail.com
END:VEVENT
BEGIN:VEVENT
DTSTART;TZID=America/New_York:20220728T190000
DTEND;TZID=America/New_York:20220728T220000
DTSTAMP:20260422T155019
CREATED:20220621T162201Z
LAST-MODIFIED:20250612T224749Z
UID:432-1659034800-1659045600@bumpa2bumpa.com
SUMMARY:Thursday Night Comedy - Jason Andors
DESCRIPTION:Thursday Night Comedy Features Jason Andors\n\nThursday\, July 28\, 2022\nDoors open 7pm\nShowtime @ 8pm\nHosted by Cee Jay Craxx \nAdvanced Tickets: $15 – Online Only\nAt the Door: $25 \nWe feature a different comedian every Thursday. \nAll ticket purchases are non-refundable.
URL:https://bumpa2bumpa.com/event/thursday-night-comedy-jason-andors/
LOCATION:South Valley BBQ & Lounge\, 34 S. Valley Road\, West Orange\, NJ\, 07052\, United States
CATEGORIES:Thursday Night Comedy Shows
ATTACH;FMTTYPE=image/jpeg:https://bumpa2bumpa.com/wp-content/uploads/2022/06/IMG_1186.jpg
ORGANIZER;CN="Marquis%20Thomas":MAILTO:bumpabumpallc@gmail.com
END:VEVENT
END:VCALENDAR